BEGIN:VCALENDAR
VERSION:2.0
PRODID:-//wp-events-plugin.com//7.2.3.1//EN
BEGIN:VEVENT
UID:167@ftwv.de
DTSTART:20250513T174500Z
DTEND:20260424T210000Z
DTSTAMP:20250410T133420Z
URL:https://ftwv.de/kurse/vorbereitungskurs-industriemeister-in-elektrotec
 hnik-teil-a
SUMMARY:Vorbereitungslehrgang Industriemeister/in Elektrotechnik (Teil A) 2
 025/2026
DESCRIPTION:Vorbereitungskurs Industriemeister/in Elektrotechnik (Teil A)\n
 Neu: Online-Unterricht und auch Teilnahme in Präsenz möglich.\n&nbsp\;\n
 \n\n\nInhalt/Themen:\n\nDer Lehrgangsteil A „Fachrichtungsübergreifende
  Basisqualifikationen“ umfasst die Handlungsbereiche:\n\n 	Rechtsbewusst
 es Handeln\n 	Betriebswirtschaftliches Handeln\n 	Anwendung von Methoden d
 er Information\, Kommunikation und Planung\n 	Zusammenarbeit im Betrieb\n 
 	Berücksichtigung naturwissenschaftlicher und technischer Gesetzmäßigke
 iten\n\nDer Unterricht findet in seminaristischer Form statt.\n\n&nbsp\;\n
 \nZulassungsvoraussetzungen:\n\nZur Prüfung im Prüfungsteil „Fachricht
 ungsübergreifende Basisqualifikationen“ ist zuzulassen\, wer Folgendes 
 nachweist:\n\n 	eine mit Erfolg abgelegte Abschlussprüfung in einem anerk
 annten Ausbildungsberuf\, der den Elektrotechnikberufen zugeordnet werden 
 kann\, oder\n 	eine mit Erfolg abgelegte Abschlussprüfung in einem sonsti
 gen anerkannten Ausbildungsberuf und danach eine mindestens sechs Monate B
 erufspraxis in der Elektroindustrie oder\n 	eine mindestens vierjährige B
 erufspraxis in der Elektroindustrie.\n\n&nbsp\;\n\nAbschluss:\n\nPrüfung 
 Teil A am 29. und 30.04.2026 vor der Oldenburgischen Industrie- und Handel
 skammer\nDer Teil B der Industriemeisterausbildung (handlungsspezifische Q
 ualifikationen) schließt sich direkt an. (Lehrgangsbeginn: 19.05.2026)\nD
 ie Ausbildereignung (AEVO) muss vor der Abschlussprüfung (Teil B) nachgew
 iesen werden.\nDen Lehrgangsbeginn für den Lehrgang zur Vorbereitung auf 
 die Ausbildereignungsprüfung entnehmen Sie bitte der Rubrik Ausbildereign
 ung. Es ist eine separate Anmeldung erforderlich.\n\n&nbsp\;\n\nDauer:\n\n
 ca. 400 Unterrichtsstunden (2 Semester inkl. 5 Tage Bildungsurlaub nach NB
 ildUG)\n\n&nbsp\;\n\nTermin:\n\n13.05.2025 bis 24.04.2026\n\n&nbsp\;\n\nWe
 itere Termin-Informationen:\n\nUnterricht im Semester: dienstags\, mittwoc
 hs und freitags jeweils von 17:45 bis 21:00 Uhr\nDer Unterricht findet hyb
 rid\, d.h. live im Unterrichtsraum und parallel als online-Übertragung\, 
 statt.\nSemesterferien: Juli und August 2025 sowie im Februar 2026\nAußer
 dem frei: 2 Wochen zum Jahreswechsel\n\n&nbsp\;\n\nLehrgangsleiter:\n\nPro
 f. Dr.-Ing. H. Schirrmacher\n\n&nbsp\;\n\nGebühr:\n\n2.710\,00 Euro / je 
 Teilnehmer(in) zzgl. 225\,00 Euro Prüfungsgebühr IHK\n\n&nbsp\;\n\nFörd
 erung:\n\nFörderung nach AFBG – Meister-BAföG – Bedingungen: Aufstie
 gs-BAföG.de\n\n&nbsp\;\n\nInfotelefon:\n\n04421 9873464\n\n&nbsp\;\n\nKon
 takt E-Mail:\n\nftwv@ftwv.de\n\n\n
CATEGORIES:Industriemeister,Industriemeister Elektro
LOCATION:FTWV e.V.\, Kieler Straße 74\, Wilhelmshaven\, 26382\, Deutschlan
 d
GEO:53.5269239;8.113944500000002
X-APPLE-STRUCTURED-LOCATION;VALUE=URI;X-ADDRESS=Kieler Straße 74\, Wilhelm
 shaven\, 26382\, Deutschland;X-APPLE-RADIUS=100;X-TITLE=FTWV e.V.:geo:53.5
 269239,8.113944500000002
END:VEVENT
END:VCALENDAR