BEGIN:VCALENDAR
VERSION:2.0
PRODID:-//wp-events-plugin.com//7.2.3.1//EN
BEGIN:VEVENT
UID:196@ftwv.de
DTSTART:20260915T080000Z
DTEND:20261001T160000Z
DTSTAMP:20250923T081223Z
URL:https://ftwv.de/kurse/vorbereitungslehrgang-auf-die-ausbildereignungsp
 ruefung-ada-in-vollzeit
SUMMARY:Vorbereitungslehrgang auf die Ausbildereignungsprüfung (AdA) in Vo
 llzeit
DESCRIPTION:Vorbereitung auf die Ausbildereignungsprüfung\nin zweimal 3 Un
 terrichtstagen (als Bildungsurlaub)\n\nDurch Ablegen der Ausbildereignungs
 prüfung weisen Sie arbeitspädagogische Fähigkeiten nach. Der Abschluss 
 bringt nicht nur Ihr Unternehmen weiter\, sondern dient auch Ihrer persön
 lichen beruflichen Weiterentwicklung.\n\nDer Ausbildereignungslehrgang ist
  zugleich berufs- und arbeitspädagogische Qualifikation für die Industri
 emeisterausbildung. Der erfolgreiche Abschluss der Ausbildereignungsprüfu
 ng muss vor der Prüfung von Teil B des Industriemeisterlehrgangs nachgewi
 esen werden.\n\nInhalte:\n\nDie berufs- und arbeitspädagogische Eignung u
 mfasst die Kompetenz zum selbstständigen Planen\, Durchführen und Kontro
 llieren der Berufsausbildung in den vier Handlungsfeldern:\n\n 	Ausbildung
 svoraussetzungen prüfen und Ausbildung planen: Nutzen der betrieblichen A
 usbildung\, betrieblicher Ausbildungsbedarf\, rechtliche Rahmenbedingungen
  der Ausbildung\, Ausbildungsordnung\, Eignung des Ausbildungspersonals\, 
 Duales System\, Ausbildungsberufsbild und -Rahmenplan\n 	Ausbildung vorber
 eiten und bei der Einstellung von Auszubildenden mitwirken: Betrieblichen 
 Ausbildungsplan erstellen\, Lernorte der Ausbildung\, Ablauf der Ausbildun
 gsplanung\, Rechte der Jugend- und Auszubildendenvertreter\, organisatoris
 che Grundlagen der Berufsschule\, Grundlagen und Inhalte des Berufsausbild
 ungsvertrages\n 	Ausbildung durchführen: Rahmenbedingungen des Lernens\, 
 motivierende Lernkultur schaffen\, Führungsstile\, Probezeit\, Lernerfolg
 skontrolle\, Lernziele und -inhalte\, Lernschwierigkeiten\, persönliche E
 ntwicklung fördern\, Konfliktlösung\, Beurteilungsgespräch\n 	Ausbildun
 g abschließen: Ausbildung zu einem erfolgreichen Abschluss führen\, Prü
 fungsanforderungen gemäß Verordnung des Berufsbildes\, Besonderheiten ei
 ner Prüfungssituation. Verlängerung bei nicht bestandener Prüfung\, Inh
 alte eines Zeugnisses\, Übernahme\, Weiterbildungsmöglichkeiten\, betrie
 bliche Personalentwicklung\n\nDer Unterricht findet in seminaristischer Fo
 rm statt.\n\nAbschluss:\n\nDer Lehrgang bereitet auf die Ausbildereignungs
 prüfung der Oldenburgischen IHK vor.\nSchriftliche Prüfung am 06. oder 0
 7.10.2026 vor der Oldenburgischen IHK\, praktische Prüfung in KW 42-44 vo
 r der Oldenburgischen IHK oder zu einem späteren Zeitpunkt der eigenen Wa
 hl.\n\nLehrgangsdauer:\n\n15.09.2026 bis 17.09.2026 und 29.09.2026 bis 01.
 10.2026\, zweimal 3 Unterrichtstage\n\nWeitere Termin-Informationen:\n\nUn
 terricht:\nam Dienstag\, 15.09.2026 von 9:00 bis 16:00 Uhr\nam Mittwoch\, 
 16.09.2026 von 8:00 bis 16:00 Uhr\nam Donnerstag\, 17.09.2026 von 8:00 bis
  16:00 Uhr\n\nam Dienstag\, 29.09.2026 von 9:00 bis 16:00 Uhr\nam Mittwoch
 \, 30.09.2026 von 8:00 bis 16:00 Uhr\nam Donnerstag\, 01.10.2026 von 8:00 
 bis 15:00 Uhr\n\nInsgesamt 51 Unterrichtsstunden in Vollzeit\, anerkannt a
 ls Bildungsurlaub.\n\nIntensivlehrgang\, der ein Lernen nach Unterrichtssc
 hluss erfordert.\n\nLehrgangsleiter:\n\nBildungsreferent Peter Merbt\n\nGe
 bühr:\n\n495\,00 Euro je Teilnehmer(in) plus 170\,00 Euro Prüfungsgebüh
 r der Oldenburgischen IHK\ninkl. Selbstlernkompendium des Dozenten\n\nInfo
 telefon:\n\n04421 9873464\n\nKontakt-E-Mail:\n\nftwv@ftwv.de
CATEGORIES:Ausbildereignung
LOCATION:FTWV e.V.\, Kieler Straße 74\, Wilhelmshaven\, 26382\, Deutschlan
 d
GEO:53.5269239;8.113944500000002
X-APPLE-STRUCTURED-LOCATION;VALUE=URI;X-ADDRESS=Kieler Straße 74\, Wilhelm
 shaven\, 26382\, Deutschland;X-APPLE-RADIUS=100;X-TITLE=FTWV e.V.:geo:53.5
 269239,8.113944500000002
END:VEVENT
END:VCALENDAR